BEGIN:VCALENDAR
VERSION:2.0
PRODID:-//Brooks Fishing Club - ECPv6.15.20//NONSGML v1.0//EN
CALSCALE:GREGORIAN
METHOD:PUBLISH
X-WR-CALNAME:Brooks Fishing Club
X-ORIGINAL-URL:https://brooksfishingclub.com
X-WR-CALDESC:Events for Brooks Fishing Club
REFRESH-INTERVAL;VALUE=DURATION:PT1H
X-Robots-Tag:noindex
X-PUBLISHED-TTL:PT1H
BEGIN:VTIMEZONE
TZID:UTC
BEGIN:STANDARD
TZOFFSETFROM:+0000
TZOFFSETTO:+0000
TZNAME:UTC
DTSTART:20240101T000000
END:STANDARD
END:VTIMEZONE
BEGIN:VTIMEZONE
TZID:America/New_York
BEGIN:DAYLIGHT
TZOFFSETFROM:-0500
TZOFFSETTO:-0400
TZNAME:EDT
DTSTART:20240310T070000
END:DAYLIGHT
BEGIN:STANDARD
TZOFFSETFROM:-0400
TZOFFSETTO:-0500
TZNAME:EST
DTSTART:20241103T060000
END:STANDARD
BEGIN:DAYLIGHT
TZOFFSETFROM:-0500
TZOFFSETTO:-0400
TZNAME:EDT
DTSTART:20250309T070000
END:DAYLIGHT
BEGIN:STANDARD
TZOFFSETFROM:-0400
TZOFFSETTO:-0500
TZNAME:EST
DTSTART:20251102T060000
END:STANDARD
BEGIN:DAYLIGHT
TZOFFSETFROM:-0500
TZOFFSETTO:-0400
TZNAME:EDT
DTSTART:20260308T070000
END:DAYLIGHT
BEGIN:STANDARD
TZOFFSETFROM:-0400
TZOFFSETTO:-0500
TZNAME:EST
DTSTART:20261101T060000
END:STANDARD
END:VTIMEZONE
BEGIN:VEVENT
DTSTART;TZID=UTC:20251105T090000
DTEND;TZID=UTC:20251105T130000
DTSTAMP:20260422T230845
CREATED:20250919T194922Z
LAST-MODIFIED:20250919T194922Z
UID:11774-1762333200-1762347600@brooksfishingclub.com
SUMMARY:Pine Island Sound- Captain Bill Russell
DESCRIPTION:2637 Clyde St.\, Matlacha\, FL 33993\nWe typically schedule two boats with three members per boat – all morning 4- hour trips from 9AM to 1PM @ $550 per trip (with tips $220 per member).  Members can expect a trip announcement from me approximately 2-3 weeks prior to each scheduled trip.
URL:https://brooksfishingclub.com/event/pine-island-sound-captain-bill-russell-34/
LOCATION:Gulf Coast Limited Fishing Charter\, 2637 Clyde St.\, Matlacha\, FL\, 33993\, United States
CATEGORIES:Back Bay Charters
END:VEVENT
BEGIN:VEVENT
DTSTART;TZID=America/New_York:20251111T090000
DTEND;TZID=America/New_York:20251111T110000
DTSTAMP:20260422T230845
CREATED:20250416T003025Z
LAST-MODIFIED:20250416T003025Z
UID:10562-1762851600-1762858800@brooksfishingclub.com
SUMMARY:Monthly Meeting
DESCRIPTION:
URL:https://brooksfishingclub.com/event/monthly-meeting-17/
LOCATION:Enrichment Center\, 9930 Coconut Rd\, Bonita Springs\, FL\, 34135\, United States
CATEGORIES:Monthly Meeting
END:VEVENT
BEGIN:VEVENT
DTSTART;TZID=UTC:20251113T163000
DTEND;TZID=UTC:20251113T183000
DTSTAMP:20260422T230845
CREATED:20250925T184356Z
LAST-MODIFIED:20250925T184356Z
UID:11835-1763051400-1763058600@brooksfishingclub.com
SUMMARY:Volunteer's Reception
DESCRIPTION:
URL:https://brooksfishingclub.com/event/volunteers-reception-2/
LOCATION:The Rookery
CATEGORIES:Volunteer's Reception
ORGANIZER;CN="TJ Wright":MAILTO:tj@wrighthouse.us
END:VEVENT
BEGIN:VEVENT
DTSTART;TZID=UTC:20251117T090000
DTEND;TZID=UTC:20251117T130000
DTSTAMP:20260422T230845
CREATED:20250919T194948Z
LAST-MODIFIED:20250919T194948Z
UID:11776-1763370000-1763384400@brooksfishingclub.com
SUMMARY:Pine Island Sound- Captain Bill Russell
DESCRIPTION:2637 Clyde St.\, Matlacha\, FL 33993\nWe typically schedule two boats with three members per boat – all morning 4- hour trips from 9AM to 1PM @ $550 per trip (with tips $220 per member).  Members can expect a trip announcement from me approximately 2-3 weeks prior to each scheduled trip.
URL:https://brooksfishingclub.com/event/pine-island-sound-captain-bill-russell-35/
LOCATION:Gulf Coast Limited Fishing Charter\, 2637 Clyde St.\, Matlacha\, FL\, 33993\, United States
CATEGORIES:Back Bay Charters
END:VEVENT
BEGIN:VEVENT
DTSTART;VALUE=DATE:20251126
DTEND;VALUE=DATE:20251127
DTSTAMP:20260422T230845
CREATED:20250515T181931Z
LAST-MODIFIED:20250515T181931Z
UID:11221-1764115200-1764201599@brooksfishingclub.com
SUMMARY:Findictive - Off Shore Charter
DESCRIPTION:We launch from the Naples City pier at 7:00 AM.  We usually meet at the Enrichment Center of the Commons club at 6:00 AM. and consolidate drivers.  This is a full day trip and we can usually anticipate a good catch!
URL:https://brooksfishingclub.com/event/findictive-off-shore-charter-15/
LOCATION:FL
CATEGORIES:Off Shore Charters
END:VEVENT
END:VCALENDAR