BEGIN:VCALENDAR
VERSION:2.0
PRODID:-//Brooks Fishing Club - ECPv6.15.20//NONSGML v1.0//EN
CALSCALE:GREGORIAN
METHOD:PUBLISH
X-WR-CALNAME:Brooks Fishing Club
X-ORIGINAL-URL:https://brooksfishingclub.com
X-WR-CALDESC:Events for Brooks Fishing Club
REFRESH-INTERVAL;VALUE=DURATION:PT1H
X-Robots-Tag:noindex
X-PUBLISHED-TTL:PT1H
BEGIN:VTIMEZONE
TZID:UTC
BEGIN:STANDARD
TZOFFSETFROM:+0000
TZOFFSETTO:+0000
TZNAME:UTC
DTSTART:20190101T000000
END:STANDARD
END:VTIMEZONE
BEGIN:VEVENT
DTSTART;TZID=UTC:20200120T113000
DTEND;TZID=UTC:20200120T140000
DTSTAMP:20260423T154923
CREATED:20190524T190152Z
LAST-MODIFIED:20190524T190152Z
UID:1847-1579519800-1579528800@brooksfishingclub.com
SUMMARY:Instructional Luncheon - Cooking Class at SWCC
DESCRIPTION:
URL:https://brooksfishingclub.com/event/instructional-luncheon-cooking-class-at-swcc/
LOCATION:Shadow Wood Country Club\, 22801 Oakwilde Blvd\, Estero\, FL\, 34135\, United States
END:VEVENT
END:VCALENDAR